BEGIN:VCALENDAR
VERSION:2.0
PRODID:-//hacksw/handcal//NONSGML v1.0//EN
CALSCALE:GREGORIAN
BEGIN:VEVENT
DTEND:20220319T103000Z
UID:69eb2da46f0cd
DTSTAMP:19700101T000000Z
LOCATION:
DESCRIPTION:Rechnen mit Quanten? Wie soll das gehen? Was wir bisher mit 0 und 1, der Sprache der normalen Computer, geschafft haben, sollen Quantencomputer komplett auf den Kopf stellen. Und sie wollen noch viel schneller als heutige Supercomputer sein und Probleme lösen, für die wir bisher keine gute Lösung finden konnten. Aber Moment mal – was sind denn Quanten überhaupt?
URL;VALUE=URI:https://dev.koelner-wissenschaftsrunde.de/kwr_termine/wie-funktioniert-ein-quantencomputer-und-wo-ist-der-kaelteste-punkt-von-koeln-gruppe-2/
SUMMARY:Wie funktioniert ein Quantencomputer und wo ist der kälteste Punkt von Köln? (Gruppe 2)
DTSTART:20220319T090000Z
END:VEVENT
END:VCALENDAR