BEGIN:VCALENDAR
VERSION:2.0
PRODID:-//hacksw/handcal//NONSGML v1.0//EN
CALSCALE:GREGORIAN
BEGIN:VEVENT
DTEND:20251221T180000Z
UID:69e89e92c77a6
DTSTAMP:19700101T000000Z
LOCATION:
DESCRIPTION:Zum 13. Mal beteiligt sich die KHM am bundesweiten Kurzfilmtag und präsentiert gemeinsam mit der ifs Internationale Filmschule Köln und dem Kurzfilmfestival Köln (KFFK) ausgewählte aktuelle Kurzfilme ihrer Studierenden. Die Regisseur*innen sind anwesend.
URL;VALUE=URI:https://dev.koelner-wissenschaftsrunde.de/kwr_termine/kurzfilmtag-2025-in-jedem-ende-ein-anfang/
SUMMARY:Kurzfilmtag 2025:  In jedem Ende, ein Anfang.
DTSTART:20251221T180000Z
END:VEVENT
END:VCALENDAR