BEGIN:VCALENDAR
VERSION:2.0
PRODID:-//hacksw/handcal//NONSGML v1.0//EN
CALSCALE:GREGORIAN
BEGIN:VEVENT
DTEND:20260204T230000Z
UID:69e89e941827c
DTSTAMP:19700101T000000Z
LOCATION:
DESCRIPTION:Für all(e) das Schöne – advanced accessible audio. Präsentation von interaktiven Raumklang-Formaten von Studierenden und Alumni der KHM.
URL;VALUE=URI:https://dev.koelner-wissenschaftsrunde.de/kwr_termine/soundart-fuer-alle-das-schoene-advanced-accessible-audio/
SUMMARY:SoundART: Für all(e) das Schöne – advanced accessible audio
DTSTART:20260204T230000Z
END:VEVENT
END:VCALENDAR