BEGIN:VCALENDAR
VERSION:2.0
PRODID:-//hacksw/handcal//NONSGML v1.0//EN
CALSCALE:GREGORIAN
BEGIN:VEVENT
DTEND:20251208T190000Z
UID:69e8b1fba6795
DTSTAMP:19700101T000000Z
LOCATION:
DESCRIPTION:Der Fachbereich Jazz/Pop der Hochschule für Musik und Tanz Köln startet eine brandneue Kooperation mit dem legendären King Georg – einer der coolsten Live-Jazz Bühnen der Stadt! Gemeinsam wollen wir jungen Musiker*innen die Chance geben, richtig durchzustarten: Mehr Raum für Kreativität, coole Projekte und jede Menge Live-Vibes.
URL;VALUE=URI:https://dev.koelner-wissenschaftsrunde.de/kwr_termine/off-campus-saxophone-summit-jazz-pop-saxophonabend/
SUMMARY:Off Campus: Saxophone Summit (Jazz/Pop-Saxophonabend)
DTSTART:20251208T190000Z
END:VEVENT
END:VCALENDAR