BEGIN:VCALENDAR
VERSION:2.0
PRODID:-//hacksw/handcal//NONSGML v1.0//EN
CALSCALE:GREGORIAN
BEGIN:VEVENT
DTEND:20260401T100000Z
UID:69eb43d03847d
DTSTAMP:19700101T000000Z
LOCATION:
DESCRIPTION:Rechtzeitig zu Ostern forschen wir zum Thema Ei und was aus ihm schlüpft.
URL;VALUE=URI:https://dev.koelner-wissenschaftsrunde.de/kwr_termine/eier-und-vogel-forscher/
SUMMARY:Eier- und Vogel-Forscher
DTSTART:20260401T080000Z
END:VEVENT
END:VCALENDAR