BEGIN:VCALENDAR
VERSION:2.0
PRODID:-//hacksw/handcal//NONSGML v1.0//EN
CALSCALE:GREGORIAN
BEGIN:VEVENT
DTEND:20260110T190000Z
UID:69e89e9d21568
DTSTAMP:19700101T000000Z
LOCATION:
DESCRIPTION:Ein klassisches Konzert für junge Erwachsene – ganz ohne Dresscode, aber mit allem, was einen besonderen Abend ausmacht. Mit der Konzertreihe „Bock auf Klassik?!“ lädt das Gürzenich-Orchester Köln alle unter 29 Jahren zu einem Abend ein, der klassische Musik neu erlebbar macht: nahbar, lebendig und überraschend anders. Für nur 8 Euro erwarten euch große Werke, eine persönliche Moderation durch den Abend und danach ein musikalischer Ausklang mit DJ, Freigetränken und lockerer Atmosphäre im Foyer.
URL;VALUE=URI:https://dev.koelner-wissenschaftsrunde.de/kwr_termine/konzert-koelsch-bock-auf-klassik/
SUMMARY:Konzert &#038; Kölsch: Bock auf Klassik?
DTSTART:20260110T190000Z
END:VEVENT
END:VCALENDAR