BEGIN:VCALENDAR
VERSION:2.0
PRODID:-//hacksw/handcal//NONSGML v1.0//EN
CALSCALE:GREGORIAN
BEGIN:VEVENT
DTEND:20260515T170000Z
UID:69e89eaa5b2fe
DTSTAMP:19700101T000000Z
LOCATION:
DESCRIPTION:Ausstellung von Studis der KHM in Kooperation mit den Kunstsammlungen der Ruhr-Universität Bochum. In der Ausstellung Post Grounds bringen Studierende des Seminarsurban stage unter der Leitung von Prof. Mischa Kuball ihre eigenen künstlerischen Positionen ins Campusmuseum ein und treten mit Exponaten der Kunstsammlungen in einen Dialog. Die Beteiligten verstehen die Sammlung als einen lebendigen Ort, an dem Vergangenheit und Zukunft aufeinandertreffen.
URL;VALUE=URI:https://dev.koelner-wissenschaftsrunde.de/kwr_termine/post-grounds-rub-x-urban-stage/
SUMMARY:Ausstellung: POST GROUNDS &#8211; RUB x Urban Stage
DTSTART:20260128T180000Z
END:VEVENT
END:VCALENDAR