BEGIN:VCALENDAR
VERSION:2.0
PRODID:-//hacksw/handcal//NONSGML v1.0//EN
CALSCALE:GREGORIAN
BEGIN:VEVENT
DTEND:20260331T100000Z
UID:69eb56cf9359f
DTSTAMP:19700101T000000Z
LOCATION:
DESCRIPTION:Wir machen Experimente in der Stadt
URL;VALUE=URI:https://dev.koelner-wissenschaftsrunde.de/kwr_termine/wie-ist-eigentlich-das-klima-in-koeln/
SUMMARY:Wie ist eigentlich das Klima in Köln?
DTSTART:20260331T080000Z
END:VEVENT
END:VCALENDAR