BEGIN:VCALENDAR
VERSION:2.0
PRODID:-//hacksw/handcal//NONSGML v1.0//EN
CALSCALE:GREGORIAN
BEGIN:VEVENT
DTEND:20260224T183000Z
UID:69e8b2526bcc4
DTSTAMP:19700101T000000Z
LOCATION:
DESCRIPTION:Die HfMT hat im vergangenen Jahr ihr 100-jähriges Bestehen ausgiebig und eindrucksvoll gefeiert. Nach den Schlaglichtern auf Persönlichkeiten und Ereignisse aus der Vergangenheit der Hochschule werfen die Spitzentöne 2026 nun einen entschiedenen Blick in die Zukunft und präsentieren nicht weniger als acht Antrittskonzerte von frisch an das Haus berufenen Professoren.
URL;VALUE=URI:https://dev.koelner-wissenschaftsrunde.de/kwr_termine/spitzentoene-2026-tiefenrausch/
SUMMARY:SPITZENTÖNE 2026 &#8211; TIEFENRAUSCH
DTSTART:20260224T183000Z
END:VEVENT
END:VCALENDAR