BEGIN:VCALENDAR
VERSION:2.0
PRODID:-//hacksw/handcal//NONSGML v1.0//EN
CALSCALE:GREGORIAN
BEGIN:VEVENT
DTEND:20260309T163000Z
UID:69eb43dae3935
DTSTAMP:19700101T000000Z
LOCATION:
DESCRIPTION:Wo genau kommen sie her? Wie kommen sie auf die Erde? Woran kann man sie erkennen?
URL;VALUE=URI:https://dev.koelner-wissenschaftsrunde.de/kwr_termine/was-sind-meteorite-2/
SUMMARY:Was sind Meteorite?
DTSTART:20260309T153000Z
END:VEVENT
END:VCALENDAR