BEGIN:VCALENDAR
VERSION:2.0
PRODID:-//hacksw/handcal//NONSGML v1.0//EN
CALSCALE:GREGORIAN
BEGIN:VEVENT
DTEND:20260324T163000Z
UID:69eb2daeaac0a
DTSTAMP:19700101T000000Z
LOCATION:
DESCRIPTION:Sonne, Haut und Schatten sind wahre Superstars.
URL;VALUE=URI:https://dev.koelner-wissenschaftsrunde.de/kwr_termine/die-sonne-und-wir-2/
SUMMARY:Die Sonne und Wir
DTSTART:20260324T150000Z
END:VEVENT
END:VCALENDAR