BEGIN:VCALENDAR
VERSION:2.0
PRODID:-//hacksw/handcal//NONSGML v1.0//EN
CALSCALE:GREGORIAN
BEGIN:VEVENT
DTEND:20220517T144500Z
UID:69e8b1fc18e63
DTSTAMP:19700101T000000Z
LOCATION:
DESCRIPTION:Weißer Sand, Liegestühle, Volleybälle … so sieht die KinderUni an der Playa aus! Die Playa ist die Beachvolleyballanlage auf unserem Campus. Habt Ihr Spaß Euch im Sand mit dem Ball zu bewegen? Dann kommt vorbei!
URL;VALUE=URI:https://dev.koelner-wissenschaftsrunde.de/kwr_termine/beachvolleyball/
SUMMARY:Beachvolleyball
DTSTART:20220517T131500Z
END:VEVENT
END:VCALENDAR