BEGIN:VCALENDAR
VERSION:2.0
PRODID:-//hacksw/handcal//NONSGML v1.0//EN
CALSCALE:GREGORIAN
BEGIN:VEVENT
DTEND:20260203T164500Z
UID:69e89eb448db3
DTSTAMP:19700101T000000Z
LOCATION:
DESCRIPTION:Ein großer Teil der landwirtschaftlichen Produktion fällt dem Befall durch pflanzenpathogene Mikroorganismen zum Opfer. Faktoren wie Globalisierung, Monokulturen und der Klimawandel tragen zur Entstehung und Ausbreitung neuer Krankheitserreger bei. Für eine nachhaltige und effiziente Nahrungsproduktion muss gleichzeitig verstanden werden, wie Mikroben Pflanzenkrankheiten verursachen und wie die Krankheitsresistenz der Nutzpflanzen verbessert werden kann.
URL;VALUE=URI:https://dev.koelner-wissenschaftsrunde.de/kwr_termine/ein-jahrhundert-hybridzuechtung-von-den-anfaengen-zur-zukunft-der-pflanzenzucht/
SUMMARY:Ringvorlesung: Ein Jahrhundert Hybridzüchtung &#8211; Von den Anfängen zur Zukunft der Pflanzenzucht
DTSTART:20260203T164500Z
END:VEVENT
END:VCALENDAR