BEGIN:VCALENDAR
VERSION:2.0
PRODID:-//hacksw/handcal//NONSGML v1.0//EN
CALSCALE:GREGORIAN
BEGIN:VEVENT
DTEND:20220324T170000Z
UID:69e8b216852c5
DTSTAMP:19700101T000000Z
LOCATION:
DESCRIPTION:Ihr wollt wissen, was im Inneren der Körper oder Organismen von Tieren passiert? Die Wissenschaft auch. Deshalb gibt es hier bspw. die Technik der Kalzium-Bildgebung als Verfahren. Mit Hilfe dieser Technik werden wir erleben, wie bei Zebrafischlarven im Gehirn ein Licht angeht, wenn sie unterschiedlich schmeckendes Futter kosten.
URL;VALUE=URI:https://dev.koelner-wissenschaftsrunde.de/kwr_termine/beobachtungen-in-der-tierwelt-wie-bei-fischlarven-beim-schmecken-ein-licht-angeht-gruppe-2/
SUMMARY:Beobachtungen in der Tierwelt: Wie bei Fischlarven beim Schmecken ein Licht angeht (Gruppe 2)
DTSTART:20220324T160000Z
END:VEVENT
END:VCALENDAR