BEGIN:VCALENDAR
VERSION:2.0
PRODID:-//hacksw/handcal//NONSGML v1.0//EN
CALSCALE:GREGORIAN
BEGIN:VEVENT
DTEND:20260423T110000Z
UID:69e8b1fb68b44
DTSTAMP:19700101T000000Z
LOCATION:
DESCRIPTION:Von der Schulbank ins Labor: Das Max-Planck-Institut für Pflanzenzüchtungsforschung ist beim diesjährigen Girl´s Day dabei und bietet Schülerinnen der Klassen 7-9 die Möglichkeit, in die Berufe der Wissenschaftlerin und der Gärtnerin reinschnuppern. Sie werden die unterschiedlichsten Pflanzen-Samen kennenlernen und in Laboren spannende Experimente rund um die Pflanzenforschung selber durchführen.
URL;VALUE=URI:https://dev.koelner-wissenschaftsrunde.de/kwr_termine/girls-day-am-mpi-fuer-pflanzenzuechtungsforschung-2/
SUMMARY:Girl´s Day am MPI für Pflanzenzüchtungsforschung
DTSTART:20260423T080000Z
END:VEVENT
END:VCALENDAR