BEGIN:VCALENDAR
VERSION:2.0
PRODID:-//hacksw/handcal//NONSGML v1.0//EN
CALSCALE:GREGORIAN
BEGIN:VEVENT
DTEND:20210528T150000Z
UID:69eb2dadbe4a3
DTSTAMP:19700101T000000Z
LOCATION:
DESCRIPTION:Macht mit uns gemeinsam blau! Welche Bedeutung hat die Farbe Blau? Komm mit auf eine spannende Entdeckungsreise rund um blaue Kunst, blaue Schätze und blaue Rezepte!
URL;VALUE=URI:https://dev.koelner-wissenschaftsrunde.de/kwr_termine/blaue-geheimnisse-2-alte-rezepte-schwaemme-steine-und-ein-blauer-christuskopf/
SUMMARY:Blaue Geheimnisse 2 &#8211; Alte Rezepte, Schwämme, Steine und ein blauer Christuskopf
DTSTART:20210528T140000Z
END:VEVENT
END:VCALENDAR