BEGIN:VCALENDAR
VERSION:2.0
PRODID:-//hacksw/handcal//NONSGML v1.0//EN
CALSCALE:GREGORIAN
BEGIN:VEVENT
DTEND:20210518T160000Z
UID:69e8b400b570f
DTSTAMP:19700101T000000Z
LOCATION:
DESCRIPTION:3 Superstars: Sonne, haut & Schatten. Erfahre hier alles darüber, was die drei miteinander zu tun haben.
URL;VALUE=URI:https://dev.koelner-wissenschaftsrunde.de/kwr_termine/rund-um-den-uv-schutz-spannendes-zu-sonne-haut-und-schatten/
SUMMARY:Rund um den UV-Schutz: Spannendes zu Sonne, Haut und Schatten
DTSTART:20210518T143000Z
END:VEVENT
END:VCALENDAR