BEGIN:VCALENDAR
VERSION:2.0
PRODID:-//hacksw/handcal//NONSGML v1.0//EN
CALSCALE:GREGORIAN
BEGIN:VEVENT
DTEND:20261005T173000Z
UID:69e89ec35874f
DTSTAMP:19700101T000000Z
LOCATION:
DESCRIPTION:Immer mehr Menschen verbringen einen großen Teil ihres Alltags in sozialen Netzwerken. Für manche wird diese Nutzung zur Belastung. Gemeinsame Studien der Macromedia University und YouGov zeigen: Rund 15 Prozent der Deutschen weisen typische Symptome einer Social-Media-Sucht auf. Doch ein verbreiteter Irrtum hält sich hartnäckig: Social-Media-Sucht vor allem ein Problem bei Kindern und Jugendlichen sei.
URL;VALUE=URI:https://dev.koelner-wissenschaftsrunde.de/kwr_termine/schwer-wegzuwischen-social-media-sucht-in-deutschland/
SUMMARY:Schwer wegzuwischen: Social-Media-Sucht in Deutschland
DTSTART:20261005T160000Z
END:VEVENT
END:VCALENDAR