BEGIN:VCALENDAR
VERSION:2.0
PRODID:-//hacksw/handcal//NONSGML v1.0//EN
CALSCALE:GREGORIAN
BEGIN:VEVENT
DTEND:20260310T170000Z
UID:69eb572c9a40f
DTSTAMP:19700101T000000Z
LOCATION:
DESCRIPTION:Dein Hauptgewinn in diesem Workshop: Mitten in unserer Buchbinder-Werkstatt im Herzen der Uni-Bibliothek stellst du deinen eigenen Ringbuchordner für DIN A4-Blätter her.
URL;VALUE=URI:https://dev.koelner-wissenschaftsrunde.de/kwr_termine/hauptgewinn-trotz-nieten-handwerken-in-der-uni-buchbinderei/
SUMMARY:Hauptgewinn trotz Nieten: Handwerken in der Uni-Buchbinderei
DTSTART:20260310T150000Z
END:VEVENT
END:VCALENDAR