BEGIN:VCALENDAR
VERSION:2.0
PRODID:-//hacksw/handcal//NONSGML v1.0//EN
CALSCALE:GREGORIAN
BEGIN:VEVENT
DTEND:20220330T150000Z
UID:69e89ebe624f6
DTSTAMP:19700101T000000Z
LOCATION:
DESCRIPTION:Überall wird Energie benötigt, ob für den Computer, für das Handy oder um mit Licht die Nacht zu erhellen. In diesem Workshop könnt ihr dazu spielerisch an verschiedenen Stationen selber experimentieren. Dabei geht es darum, Energie z. B. durch Muskelkraft oder Elektromotoren geschickt zu erzeugen und nachhaltig einzusetzen, um unter anderem Raketen oder Boote optimal voran zu treiben.
URL;VALUE=URI:https://dev.koelner-wissenschaftsrunde.de/kwr_termine/die-macht-der-energie-gruppe-1/
SUMMARY:Die Macht der Energie (Gruppe 1)
DTSTART:20220330T130000Z
END:VEVENT
END:VCALENDAR