BEGIN:VCALENDAR
VERSION:2.0
PRODID:-//hacksw/handcal//NONSGML v1.0//EN
CALSCALE:GREGORIAN
BEGIN:VEVENT
DTEND:20260330T153000Z
UID:69eb2db3e353e
DTSTAMP:19700101T000000Z
LOCATION:
DESCRIPTION:Eine Chemie-Vorlesung mit Experimenten
URL;VALUE=URI:https://dev.koelner-wissenschaftsrunde.de/kwr_termine/die-elemente-des-lebens/
SUMMARY:Die Elemente des Lebens
DTSTART:20260330T143000Z
END:VEVENT
END:VCALENDAR