BEGIN:VCALENDAR
VERSION:2.0
PRODID:-//hacksw/handcal//NONSGML v1.0//EN
CALSCALE:GREGORIAN
BEGIN:VEVENT
DTEND:20210615T160000Z
UID:69e67ee7a1456
DTSTAMP:19700101T000000Z
LOCATION:
DESCRIPTION:Ihr dürft Wissenschaftler*innen Fragen stellen! Heute berichtet Euch Herr Joachim Saur von den Entdeckungen, die er und sein Team in Köln gemacht haben und wie diese dabei helfen, zu entscheiden, ob wir eines Tages auch auf einem anderen Planeten leben können.
URL;VALUE=URI:https://dev.koelner-wissenschaftsrunde.de/kwr_termine/wir-befragen-wissenschaftlerinnen-koennten-wir-auf-einen-anderen-planeten-umziehen-wenn-es-uns-hier-auf-der-erde-nicht-mehr-gefaellt/
SUMMARY:Wir befragen Wissenschaftler*innen: Könnten wir auf einen anderen Planeten umziehen, wenn es uns hier auf der Erde nicht mehr gefällt?“
DTSTART:20210615T150000Z
END:VEVENT
END:VCALENDAR