BEGIN:VCALENDAR
VERSION:2.0
PRODID:-//hacksw/handcal//NONSGML v1.0//EN
CALSCALE:GREGORIAN
BEGIN:VEVENT
DTEND:20210624T154500Z
UID:69e6694ab5180
DTSTAMP:19700101T000000Z
LOCATION:
DESCRIPTION:Heute sprechen wir darüber, was denn vllt. die Antriebstechnik der Zukunft sein wird. Was gibt es schon an Alternativen zu den bekannten Kraftstoffen wie Diesel oder Benzin. Was wird aktuell noch entwickelt und wie schaut es konkret mit Wasserstoff als Energielieferant aus?
URL;VALUE=URI:https://dev.koelner-wissenschaftsrunde.de/kwr_termine/wir-befragen-wissenschaftlerinnen-wasserstoff-koennen-unsere-autos-zukuenftig-damit-fahren/
SUMMARY:Wir befragen Wissenschaftler*innen: Wasserstoff – Können unsere Autos zukünftig damit fahren?
DTSTART:20210624T150000Z
END:VEVENT
END:VCALENDAR