BEGIN:VCALENDAR
VERSION:2.0
PRODID:-//hacksw/handcal//NONSGML v1.0//EN
CALSCALE:GREGORIAN
BEGIN:VEVENT
DTEND:20220404T130000Z
UID:69e6694b084d9
DTSTAMP:19700101T000000Z
LOCATION:
DESCRIPTION:Heute lernt jeder Studierende der Wirtschaftswissenschaften die nach ihm benannten Gossenschen Gesetze. Ihr lernt in der Vorlesung, was diese Erkenntnisse für Euch und uns alle bedeuten, nämlich warum wir nicht einfach immer glücklicher werden, wenn wir immer mehr haben.
Achtung: Anmeldungen für diese Veranstaltung sind nur als OGS-Gruppe möglich.
URL;VALUE=URI:https://dev.koelner-wissenschaftsrunde.de/kwr_termine/macht-es-uns-gluecklicher-wenn-wir-mehr-bekommen-oder-mehr-haben-spannende-ideen-aus-der-welt-der-wirtschaft-gruppe-2/
SUMMARY:Macht es uns glücklicher, wenn wir mehr bekommen oder mehr haben? Spannende Ideen aus der Welt der Wirtschaft (Gruppe 2 &#8211; nur für OGS Gruppen)
DTSTART:20220404T120000Z
END:VEVENT
END:VCALENDAR