BEGIN:VCALENDAR
VERSION:2.0
PRODID:-//hacksw/handcal//NONSGML v1.0//EN
CALSCALE:GREGORIAN
BEGIN:VEVENT
DTEND:20260302T183000Z
UID:69e666023f344
DTSTAMP:19700101T000000Z
LOCATION:
DESCRIPTION:Der weltweite Einzelhandel befindet sich im Umbruch: Aufgrund der Digitalisierung individuellen, gesellschaftlichen und wirtschaftlichen Lebens verschiebt sich seit über zehn Jahren die Orientierung von Konsumenten wie Händlern vom stationären Handel in Richtung E-Commerce. Prof. Dr. Michael Kleinjohann präsentiert dieses komplexe digitale Ecosystem und systematisiert die Phänomene, Akteure und Stakeholder von Retail Media und die unterschiedlichen digitalen und physischen Erscheinungsformen.
URL;VALUE=URI:https://dev.koelner-wissenschaftsrunde.de/kwr_termine/digital-retail-media-the-next-big-thing-in-der-marketingkommunikation-des-handels/
SUMMARY:Digital Retail Media: The &#8222;Next Big Thing&#8220; in der Marketingkommunikation des Handels?
DTSTART:20260302T170000Z
END:VEVENT
END:VCALENDAR