BEGIN:VCALENDAR
VERSION:2.0
PRODID:-//hacksw/handcal//NONSGML v1.0//EN
CALSCALE:GREGORIAN
BEGIN:VEVENT
DTEND:20220324T143000Z
UID:69e6692bc64f5
DTSTAMP:19700101T000000Z
LOCATION:
DESCRIPTION:Lernt hier etwas über die Erste-Hilfe und wie eine Notfallversorgung klappen kann ohne Angst haben zu müssen.
URL;VALUE=URI:https://dev.koelner-wissenschaftsrunde.de/kwr_termine/notfallversorgung-und-wiederbelebung-gar-nicht-so-schwer-gruppe-3-fuer-ogs-gruppen/
SUMMARY:Notfallversorgung und Wiederbelebung &#8211; gar nicht so schwer! (Gruppe 3 &#8211; nur für OGS-Gruppen)
DTSTART:20220324T130000Z
END:VEVENT
END:VCALENDAR