BEGIN:VCALENDAR
VERSION:2.0
PRODID:-//hacksw/handcal//NONSGML v1.0//EN
CALSCALE:GREGORIAN
BEGIN:VEVENT
DTEND:20260706T173000Z
UID:69e665e40cc8f
DTSTAMP:19700101T000000Z
LOCATION:
DESCRIPTION:Das Starwesen im Kino braucht Fans: begeisterte Zuschauer*innen, die keinen Film verpassen, alles über ihren bewunderten Star sammeln und mit ihm oder ihr in Kontakt treten wollen. Doch während die Forschung sich intensiv mit den Stars beschäftigt hat, blieben die Fans lange im Dunkeln. Dies gilt insbesondere für die Stummfilmzeit, als jene Filmfankultur entstand, die wir heute noch kennen. Aber wer waren diese frühen Filmfans eigentlich, welche Fanpraktiken etablierten sie und welche Rolle spielte das Fan-Sein in ihrem Leben?
URL;VALUE=URI:https://dev.koelner-wissenschaftsrunde.de/kwr_termine/verehrung-und-ermaechtigung-die-fankultur-des-fruehen-kinos/
SUMMARY:Verehrung – und Ermächtigung: Die Fankultur des frühen Kinos
DTSTART:20260706T160000Z
END:VEVENT
END:VCALENDAR