BEGIN:VCALENDAR
VERSION:2.0
PRODID:-//hacksw/handcal//NONSGML v1.0//EN
CALSCALE:GREGORIAN
BEGIN:VEVENT
DTEND:20251204T170000Z
UID:69e66635d217a
DTSTAMP:19700101T000000Z
LOCATION:
DESCRIPTION:
URL;VALUE=URI:https://dev.koelner-wissenschaftsrunde.de/kwr_termine/longshot-raeume-der-vielsprachigkeit-ein-abend-mit-natalia-papaeva-in-der-temporary-gallery/
SUMMARY:Longshot. Räume der Vielsprachigkeit – ein Abend mit Natalia Papaeva in der Temporary Gallery
DTSTART:20251204T170000Z
END:VEVENT
END:VCALENDAR