BEGIN:VCALENDAR
VERSION:2.0
PRODID:-//hacksw/handcal//NONSGML v1.0//EN
CALSCALE:GREGORIAN
BEGIN:VEVENT
DTEND:20220329T130000Z
UID:69e666023f347
DTSTAMP:19700101T000000Z
LOCATION:
DESCRIPTION:Senin odan, senin alanın? Anne ve babalar, çocuk odalarını karıştırabilir ve günlüklerini okuyabilirler mi? – Çocuk olarak hangi haklara sahipsin ve hakların ne koşullarda sınırlandırılabilir? Yürüteceğimiz çalışmada bu gibi soruları yanıtlamaya çalışacağız! Sen de çocuk olarak sahip olduğun hakları öğrenmek istiyorsan bize katıl!
Achtung: Die Anmeldung ist nur für bilinguale OGS-Gruppen mit der Sprache Türkisch möglich.
URL;VALUE=URI:https://dev.koelner-wissenschaftsrunde.de/kwr_termine/meine-rechte-als-kind-cocuk-haklari-benim-haklarim-nelerdir/
SUMMARY:Meine Rechte als Kind – Çocuk Hakları – Benim haklarım nelerdir? (nur für OGS-Gruppen)
DTSTART:20220329T120000Z
END:VEVENT
END:VCALENDAR