BEGIN:VCALENDAR
VERSION:2.0
PRODID:-//hacksw/handcal//NONSGML v1.0//EN
CALSCALE:GREGORIAN
BEGIN:VEVENT
DTEND:20220404T154500Z
UID:69e8b4d6006e8
DTSTAMP:19700101T000000Z
LOCATION:
DESCRIPTION:Knochenschrauben werden, zum Beispiel in Verbindung mit Platten, im Körper platziert um Knochen oder Knochenstücke stabil miteinander zu verbinden. Es gibt eine Reihe von Gründen warum in der Behandlung von Erkrankungen beim Menschen Schrauben und Platten zum Einsatz kommen. Sie sorgen für mehr Stabilität beim Zusammenwachsen von Knochenbrüchen, aber auch bei anderen Erkrankungen.
URL;VALUE=URI:https://dev.koelner-wissenschaftsrunde.de/kwr_termine/knochenschrauben-und-platten-werkzeuge-des-chirurgen/
SUMMARY:Knochenschrauben und Platten – Werkzeuge des Chirurgen
DTSTART:20220404T150000Z
END:VEVENT
END:VCALENDAR