BEGIN:VCALENDAR
VERSION:2.0
PRODID:-//hacksw/handcal//NONSGML v1.0//EN
CALSCALE:GREGORIAN
BEGIN:VEVENT
DTEND:20260316T170000Z
UID:69e662f940f6b
DTSTAMP:19700101T000000Z
LOCATION:
DESCRIPTION:Die unsichtbaren Botschafter in deinem Gehirn
URL;VALUE=URI:https://dev.koelner-wissenschaftsrunde.de/kwr_termine/geschichtsdetektive-im-zeitungsarchiv/
SUMMARY:Neuronen unter Strom
DTSTART:20260316T150000Z
END:VEVENT
END:VCALENDAR