BEGIN:VCALENDAR
VERSION:2.0
PRODID:-//hacksw/handcal//NONSGML v1.0//EN
CALSCALE:GREGORIAN
BEGIN:VEVENT
DTEND:20260513T111500Z
UID:69e6608041d0c
DTSTAMP:19700101T000000Z
LOCATION:
DESCRIPTION:Das Mittwochsritual geht in die zweite Runde! Letztes Jahr wurde die KHM 35 Jahre alt. Um dies zu feiern hat der Studienschwerpunkt Literarisches Schreiben mit der Kölner Stadtbibliothek zusammengetan und macht seitdem Mittag mit Büchern. Die Kunsthochschule für Medien Köln lädt Autor*innen aus der Region und darüber hinaus ein, jeden zweiten Mittwoch in den Räumen der Zentralbibliothek in der Kölner Innenstadt ein Buch vorzustellen, das sie besonders geprägt hat.
URL;VALUE=URI:https://dev.koelner-wissenschaftsrunde.de/kwr_termine/lunch-lecture-mit-mara-genschel/
SUMMARY:Lunch Lecture mit Mara Genschel
DTSTART:20260513T111500Z
END:VEVENT
END:VCALENDAR