BEGIN:VCALENDAR
VERSION:2.0
PRODID:-//hacksw/handcal//NONSGML v1.0//EN
CALSCALE:GREGORIAN
BEGIN:VEVENT
DTEND:20260307T110000Z
UID:69e65ffcdd520
DTSTAMP:19700101T000000Z
LOCATION:
DESCRIPTION:Entdecke die Welt der Quantenphysik!
URL;VALUE=URI:https://dev.koelner-wissenschaftsrunde.de/kwr_termine/klein-spannend-und-voller-ideen/
SUMMARY:Klein, spannend und voller Ideen
DTSTART:20260307T090000Z
END:VEVENT
END:VCALENDAR