BEGIN:VCALENDAR
VERSION:2.0
PRODID:-//hacksw/handcal//NONSGML v1.0//EN
CALSCALE:GREGORIAN
BEGIN:VEVENT
DTEND:20260327T153000Z
UID:69e65f66a2e79
DTSTAMP:19700101T000000Z
LOCATION:
DESCRIPTION:Auf der Suche nach dem Luftkristall! - Gruppe B
URL;VALUE=URI:https://dev.koelner-wissenschaftsrunde.de/kwr_termine/das-geheimnisvolle-labor/
SUMMARY:Das geheimnisvolle Labor
DTSTART:20260327T133000Z
END:VEVENT
END:VCALENDAR