BEGIN:VCALENDAR
VERSION:2.0
PRODID:-//hacksw/handcal//NONSGML v1.0//EN
CALSCALE:GREGORIAN
BEGIN:VEVENT
DTEND:20260629T151500Z
UID:69e651708cb40
DTSTAMP:19700101T000000Z
LOCATION:
DESCRIPTION:Zauberworte für Maschinen: Finde heraus, wie KI tickt, warum sie manchmal Quatsch erzählt und wie du sie clever nutzt.
URL;VALUE=URI:https://dev.koelner-wissenschaftsrunde.de/kwr_termine/zauberworte-fuer-maschinen-wie-kuenstliche-intelligenz-arbeitet/
SUMMARY:Zauberworte für Maschinen – wie Künstliche Intelligenz arbeitet
DTSTART:20260629T143000Z
END:VEVENT
END:VCALENDAR