BEGIN:VCALENDAR
VERSION:2.0
PRODID:-//hacksw/handcal//NONSGML v1.0//EN
CALSCALE:GREGORIAN
BEGIN:VEVENT
DTEND:20210622T153000Z
UID:69e651568e689
DTSTAMP:19700101T000000Z
LOCATION:
DESCRIPTION:Aua, das tut weh! Was ist das eigentlich: Schmerz? Hat er auch eine gute Seite? Und warum hilft nicht immer das Gleiche dagegen?
URL;VALUE=URI:https://dev.koelner-wissenschaftsrunde.de/kwr_termine/die-schmerz-detektive-dem-schmerz-auf-der-spur-was-tun-wenn-es-weh-tut/
SUMMARY:Die Schmerz-Detektive: Dem Schmerz auf der Spur&#8230; Was tun, wenn es weh tut?
DTSTART:20210622T133000Z
END:VEVENT
END:VCALENDAR