BEGIN:VCALENDAR
VERSION:2.0
PRODID:-//hacksw/handcal//NONSGML v1.0//EN
CALSCALE:GREGORIAN
BEGIN:VEVENT
DTEND:20211121T160000Z
UID:69e651186f995
DTSTAMP:19700101T000000Z
LOCATION:
DESCRIPTION:Wo und wie werden die Spielheld*innen aus Euren digitalen Lieblingsspielen in der Bildung eingesetzt?
URL;VALUE=URI:https://dev.koelner-wissenschaftsrunde.de/kwr_termine/digitale-spiele-in-der-hochschule-spielend-lernen-und-verstehen-8-11-jahre/
SUMMARY:Digitale Spiele in der Hochschule &#8211; Spielend lernen und verstehen (8-11 Jahre)
DTSTART:20211121T140000Z
END:VEVENT
END:VCALENDAR