BEGIN:VCALENDAR
VERSION:2.0
PRODID:-//hacksw/handcal//NONSGML v1.0//EN
CALSCALE:GREGORIAN
BEGIN:VEVENT
DTEND:20260313T153000Z
UID:69e66635d1dbf
DTSTAMP:19700101T000000Z
LOCATION:
DESCRIPTION:
URL;VALUE=URI:https://dev.koelner-wissenschaftsrunde.de/kwr_termine/das-geheimnisvolle-labor-auf-der-suche-nach-dem-luftkristall-gruppe-a/
SUMMARY:Das geheimnisvolle Labor &#8211; Auf der Suche nach dem Luftkristall! &#8211; Gruppe A
DTSTART:20260313T133000Z
END:VEVENT
END:VCALENDAR