BEGIN:VCALENDAR
VERSION:2.0
PRODID:-//hacksw/handcal//NONSGML v1.0//EN
CALSCALE:GREGORIAN
BEGIN:VEVENT
DTEND:20260203T220000Z
UID:69e6517045a08
DTSTAMP:19700101T000000Z
LOCATION:
DESCRIPTION:BLAME - Ein bildstarkes Plädoyer für die Wissenschaft: Filmvorführung und Gespräch mit Regisseur Christian Frei und Leon Wansleben. Der Film Blame ist eine bildgewaltige filmische Reise über die Rolle der Wissenschaft in immer dunkler werdenden Zeiten. Mit sachlicher Klarheit wird gezeigt, wie das gezielte Schüren und Verstärken von Ängsten und fiebrigen Mythen unsere Welt aus dem Gleichgewicht bringt.
URL;VALUE=URI:https://dev.koelner-wissenschaftsrunde.de/kwr_termine/filmvorfuehrung-blame-ein-bildstarkes-plaedoyer-fuer-die-wissenschaft/
SUMMARY:Filmvorführung: BLAME &#8211; Ein bildstarkes Plädoyer für die Wissenschaft
DTSTART:20260203T190000Z
END:VEVENT
END:VCALENDAR