BEGIN:VCALENDAR
VERSION:2.0
PRODID:-//hacksw/handcal//NONSGML v1.0//EN
CALSCALE:GREGORIAN
BEGIN:VEVENT
DTEND:20260319T160000Z
UID:69e6511801b8f
DTSTAMP:19700101T000000Z
LOCATION:
DESCRIPTION:Wie gelingt die Energiewende konkret – in Industrie, Infrastruktur und Gesellschaft? Beim Tag der Nachhaltigen Energien 2026 an der Rheinischen Hochschule Köln geben Expert*innen aus Unternehmen sowie Forschungseinrichtungen (DLR, RWE, RheinNetz, Forschungszentrum Jülich, Shell, Arvato, LyondellBasell) u. a. Einblicke in Themen wie Strukturwandel im Rheinischen Revier, klimaneutrale Energierversorgung, digitale Energiewende u.m.
URL;VALUE=URI:https://dev.koelner-wissenschaftsrunde.de/kwr_termine/gemeinsam-zukunft-gestalten-nachhaltig-innovativ-vernetzt/
SUMMARY:Gemeinsam Zukunft gestalten – Nachhaltig, Innovativ, Vernetzt
DTSTART:20260319T083000Z
END:VEVENT
END:VCALENDAR