BEGIN:VCALENDAR
VERSION:2.0
PRODID:-//hacksw/handcal//NONSGML v1.0//EN
CALSCALE:GREGORIAN
BEGIN:VEVENT
DTEND:20220406T133000Z
UID:69e651712254b
DTSTAMP:19700101T000000Z
LOCATION:
DESCRIPTION:Sprache ist überall – in Schule und Beruf, mit Freunden und Familie, in unseren Gedanken und Träumen. Und sie ist so selbstverständlich für uns – fast schon wie Atmen – dass wir oft gar nicht bemerken, wie schwierig diese Sprache eigentlich ist, mit der wir so einfach und nebenbei komplizierte Pläne schmieden oder unsere Gefühle ausdrücken können. Wir bemerken beim Sprechen oft nicht einmal, wie ungenau und mehrdeutig unsere Sprache ist, weil wir uns daran gewöhnt haben, trotzdem verstanden zu werden.
URL;VALUE=URI:https://dev.koelner-wissenschaftsrunde.de/kwr_termine/geheimnisse-unserer-sprache-kann-man-sprache-im-labor-untersuchen-interessant/
SUMMARY:Geheimnisse unserer Sprache: Kann man Sprache im Labor untersuchen? (nur für OGS-Gruppen)
DTSTART:20220406T120000Z
END:VEVENT
END:VCALENDAR