BEGIN:VCALENDAR
VERSION:2.0
PRODID:-//hacksw/handcal//NONSGML v1.0//EN
CALSCALE:GREGORIAN
BEGIN:VEVENT
DTEND:20260413T173000Z
UID:69eb5798f2fbd
DTSTAMP:19700101T000000Z
LOCATION:
DESCRIPTION:Waschen ist eine Kulturtechnik und der am häufigsten praktizierte Recyclingprozess im Alltag. Aber was ist eigentlich die Wissenschaft dahinter, welche physikalischen, chemischen und biologischen Prozesse helfen uns bei dieser Aufgabe? Diskutieren Sie mit Prof. Dr. Birgit Glüsen über das eigentliche Ziel des Waschens, die wissenschaftlichen Hintergründe und aktuelle Forschungsansätze zu mehr Nachhaltigkeit.
URL;VALUE=URI:https://dev.koelner-wissenschaftsrunde.de/kwr_termine/chemie-im-alltag-waschen-wissenschaftlich-betrachtet/
SUMMARY:Chemie im Alltag &#8211; Waschen wissenschaftlich betrachtet
DTSTART:20260413T160000Z
END:VEVENT
END:VCALENDAR