BEGIN:VCALENDAR
VERSION:2.0
PRODID:-//hacksw/handcal//NONSGML v1.0//EN
CALSCALE:GREGORIAN
BEGIN:VEVENT
DTEND:20260112T170000Z
UID:69e6519a4507e
DTSTAMP:19700101T000000Z
LOCATION:
DESCRIPTION:Das Centrum für Integrierte Onkologie (CIO) der Uniklinik Köln lädt zum gemeinsamen Online-Patiententag der Standorte Aachen, Bonn, Köln und Düsseldorf ein. Die kostenlose Veranstaltungsreihe richtet sich vor allem an Patientinnen und Patienten sowie deren Angehörige, steht aber allen Interessierten offen.
URL;VALUE=URI:https://dev.koelner-wissenschaftsrunde.de/kwr_termine/welchen-nutzen-haben-studien-leitlinien-zertifizierte-zentren/
SUMMARY:Welchen Nutzen haben Studien, Leitlinien &#038; zertifizierte Zentren?
DTSTART:20260112T160000Z
END:VEVENT
END:VCALENDAR