BEGIN:VCALENDAR
VERSION:2.0
PRODID:-//hacksw/handcal//NONSGML v1.0//EN
CALSCALE:GREGORIAN
BEGIN:VEVENT
DTEND:20220325T154500Z
UID:69e65157233d2
DTSTAMP:19700101T000000Z
LOCATION:
DESCRIPTION:Sehen gehört für die Menschen zu den wichtigsten Möglichkeiten, die Welt wahrzunehmen. Blinde Menschen können sich nur mit sehr großer Anstrengung in unserer Welt bewegen und sie können an vielen Dingen des „normalen“ Alltags nicht teilnehmen. In der Vorlesung über das Sehen wird erklärt, wie faszinierend und einzigartig das Auge aufgebaut ist und damit das Sehen ermöglicht.
URL;VALUE=URI:https://dev.koelner-wissenschaftsrunde.de/kwr_termine/was-ist-sehen-und-wie-funktioniert-das-interessant/
SUMMARY:Was ist Sehen und wie funktioniert das?
DTSTART:20220325T150000Z
END:VEVENT
END:VCALENDAR