BEGIN:VCALENDAR
VERSION:2.0
PRODID:-//hacksw/handcal//NONSGML v1.0//EN
CALSCALE:GREGORIAN
BEGIN:VEVENT
DTEND:20260907T173000Z
UID:69e8c946cc386
DTSTAMP:19700101T000000Z
LOCATION:
DESCRIPTION:Trotz großer Ausbaubemühungen bleibt der Zugang zu Kita- und Ganztagsbetreuung vielerorts unzureichend. Besonders Familien mit geringem Einkommen, niedrigem Bildungshintergrund oder mit Migrationsgeschichte nutzen Betreuungsangebote seltener – weil sie keinen Platz finden oder die Kosten nicht tragen können. Erik Neimanns vom Max-Planck-Institut für Gesellschaftsforschung zeigt in einer Studie, wie stark regionale Unterschiede sowohl zwischen Bundesländern als auch zwischen einzelnen Kommunen sind.
URL;VALUE=URI:https://dev.koelner-wissenschaftsrunde.de/kwr_termine/kinderbetreuung-zwischen-anspruch-und-wirklichkeit/
SUMMARY:Kinderbetreuung zwischen Anspruch und Wirklichkeit
DTSTART:20260907T160000Z
END:VEVENT
END:VCALENDAR