BEGIN:VCALENDAR
VERSION:2.0
PRODID:-//hacksw/handcal//NONSGML v1.0//EN
CALSCALE:GREGORIAN
BEGIN:VEVENT
DTEND:20260319T180000Z
UID:69e651993287c
DTSTAMP:19700101T000000Z
LOCATION:
DESCRIPTION:Die meisten Erwachsenen gehen nicht nur zum Spaß arbeiten, sondern weil sie und ihre Familien das Geld brauchen, dass man beim Arbeiten verdient.
URL;VALUE=URI:https://dev.koelner-wissenschaftsrunde.de/kwr_termine/woher-bekommen-wir-geld-wenn-meine-mutter-oder-mein-vater-nicht-gesund-sind/
SUMMARY:Woher bekommen wir Geld, wenn meine Mutter oder mein Vater nicht gesund sind?
DTSTART:20260319T170000Z
END:VEVENT
END:VCALENDAR