BEGIN:VCALENDAR
VERSION:2.0
PRODID:-//hacksw/handcal//NONSGML v1.0//EN
CALSCALE:GREGORIAN
BEGIN:VEVENT
DTEND:20260331T110000Z
UID:69e88c52d540c
DTSTAMP:19700101T000000Z
LOCATION:
DESCRIPTION:Im WDR Kinderstudio produzieren wir eigene Fernsehnachrichten - Gruppe C
URL;VALUE=URI:https://dev.koelner-wissenschaftsrunde.de/kwr_termine/wie-kommen-nachrichten-ins-fernsehen-8/
SUMMARY:Wie kommen Nachrichten ins Fernsehen?
DTSTART:20260331T083000Z
END:VEVENT
END:VCALENDAR