BEGIN:VCALENDAR
VERSION:2.0
PRODID:-//hacksw/handcal//NONSGML v1.0//EN
CALSCALE:GREGORIAN
BEGIN:VEVENT
DTEND:20260330T110000Z
UID:69e88c205720d
DTSTAMP:19700101T000000Z
LOCATION:
DESCRIPTION:Im WDR Kinderstudio produzieren wir eigene Fernsehnachrichten - Gruppe A
URL;VALUE=URI:https://dev.koelner-wissenschaftsrunde.de/kwr_termine/wie-kommen-nachrichten-ins-fernsehen-10/
SUMMARY:Wie kommen Nachrichten ins Fernsehen?
DTSTART:20260330T083000Z
END:VEVENT
END:VCALENDAR