BEGIN:VCALENDAR
VERSION:2.0
PRODID:-//hacksw/handcal//NONSGML v1.0//EN
CALSCALE:GREGORIAN
BEGIN:VEVENT
DTEND:20211118T160000Z
UID:69e651998b9aa
DTSTAMP:19700101T000000Z
LOCATION:
DESCRIPTION:Wer von Euch kann ein Quadrat mit drei Strichen malen? In dieser Veranstaltung geht es um kreative Lösungen von klassischen Problemen. Seid gespannt, welche Denk- und Herangehensweise es in unseren Köpfen gibt.
URL;VALUE=URI:https://dev.koelner-wissenschaftsrunde.de/kwr_termine/denken-problemloesen-knobelaufgaben-und-klassische-problemstellungen/
SUMMARY:Denken &#038; Problemlösen &#8211; Knobelaufgaben und klassische Problemstellungen
DTSTART:20211118T150000Z
END:VEVENT
END:VCALENDAR