BEGIN:VCALENDAR
VERSION:2.0
PRODID:-//hacksw/handcal//NONSGML v1.0//EN
CALSCALE:GREGORIAN
BEGIN:VEVENT
DTEND:20210406T110000Z
UID:69e6514d1b71c
DTSTAMP:19700101T000000Z
LOCATION:
DESCRIPTION:Zuckerkrankheit oder Diabetis. Kennt Ihr jemanden aus Eurem Umfeld, der diese Krankheit hat? Was ist Typ I Diabetis und wie wird sie behandelt? Wie verhalte ich mich, wenn ich Diabetis habe und wie unterstütze ich Freunde mit Diabetis?
URL;VALUE=URI:https://dev.koelner-wissenschaftsrunde.de/kwr_termine/klaus-isst-zucker-aber-er-hat-doch-zucker/
SUMMARY:Klaus isst Zucker, aber er hat doch Zucker!
DTSTART:20210406T100000Z
END:VEVENT
END:VCALENDAR